BEGIN:VCALENDAR
VERSION:2.0
CALSCALE:GREGORIAN
METHOD:PUBLISH
PRODID://CCOR//1428202
BEGIN:VEVENT
DTSTAMP:20260424T083202
VTIMEZONE:America/Chicago
DTSTART:20260514T180000Z
DTEND:20260514T190000Z
UID:1428202
SUMMARY:Ribbon Cutting at Swade Cannabis Dispensary
LOCATION:Swade Cannabis Dispensary, 9720 Page Ave., St. Louis, MO, 63132
DESCRIPTION:Ribbon Cutting at Swade Cannabis Dispensary\n\n05/14/26 01:00 PM CST\n - 05/14/26 02:00 PM CST\Description:\nJoin us to celebrate \nSwade Cannabis Dispensary's\nRibbon Cutting \n9720 Page Ave., St. Louis, MO  63132\nPress Release\n\Location:\nSwade Cannabis Dispensary\n9720 Page Ave.\nSt. Louis, MO 63132
X-ALT-DESC;FMTTYPE=text/html:Ribbon Cutting at Swade Cannabis Dispensary<br /><br />05/14/26 01:00 PM CST - 05/14/26 02:00 PM CST<br />Description:<br /><div style="text-align: center;"><span style="font-size:16px">Join us to celebrate&nbsp;<br />
Swade Cannabis Dispensary's<br />
Ribbon Cutting&nbsp;<br />
9720 Page Ave., St. Louis, MO&nbsp; 63132<br />
<a href="https://mms.ccochamber.com/ccochamber/docs/SWADE_Overland_2026.docx"><strong><span style="color:#0000FF">Press Release</span></strong></a></span></div>
<br />Location:<br />Swade Cannabis Dispensary<br />9720 Page Ave.<br />St. Louis, MO 63132
PRIORITY:3
TRANSP:TRANSPARENT
BEGIN:VALARM
TRIGGER:-PT5M
ACTION:DISPLAY
DESCRIPTION:Reminder
END:VALARM
END:VEVENT
END:VCALENDAR
