BEGIN:VCALENDAR
VERSION:2.0
CALSCALE:GREGORIAN
METHOD:PUBLISH
PRODID://CCOR//1428235
BEGIN:VEVENT
DTSTAMP:20260424T115632
VTIMEZONE:America/Chicago
DTSTART:20260618T161500Z
DTEND:20260618T180000Z
UID:1428235
SUMMARY:June 2026 Membership Luncheon
LOCATION:Holiday Inn Creve Coeur, 1030 Woodcrest Terrace Dr., St. Louis, MO, 63141
DESCRIPTION:June 2026 Membership Luncheon\n\n06/18/26 11:15 AM CST\n - 06/18/26 01:00 PM CST\Description:\nJune 2026 Membership Luncheon\nJoin us for our Membership Luncheon \nat The Holiday Inn\nTo Celebrate the Education Professional and Health Care Professional of the Year\nLast Day to Register is June 15\nSponsored by Bayer & Grand Canyon University\nNo Refunds for Cancellations after 12:00 p.m. on Monday week of Luncheon\n\Location:\nHoliday Inn Creve Coeur\n1030 Woodcrest Terrace Dr.\nSt. Louis, MO 63141
X-ALT-DESC;FMTTYPE=text/html:June 2026 Membership Luncheon<br /><br />06/18/26 11:15 AM CST - 06/18/26 01:00 PM CST<br />Description:<br /><div style="text-align: center;"><strong><span style="font-size:20px">June 2026&nbsp;Membership Luncheon</span></strong><br />
<span style="font-size:16px">Join us for our Membership Luncheon&nbsp;</span><br />
<span style="font-size:16px">at The Holiday Inn<br />
To Celebrate the Education Professional and Health Care Professional of the Year</span><br />
<strong><span style="color:#FF0000"><span style="font-size:16px">Last Day to Register is June 15</span></span><br />
<span style="font-size:16px">Sponsored by Bayer &amp; Grand Canyon University</span></strong><br />
No Refunds for Cancellations after&nbsp;12:00 p.m.&nbsp;on Monday week of Luncheon</div>
<br />Location:<br />Holiday Inn Creve Coeur<br />1030 Woodcrest Terrace Dr.<br />St. Louis, MO 63141
PRIORITY:3
TRANSP:TRANSPARENT
BEGIN:VALARM
TRIGGER:-PT5M
ACTION:DISPLAY
DESCRIPTION:Reminder
END:VALARM
END:VEVENT
END:VCALENDAR
