BEGIN:VCALENDAR
VERSION:2.0
CALSCALE:GREGORIAN
METHOD:PUBLISH
PRODID://CCOR//1428222
BEGIN:VEVENT
DTSTAMP:20260424T115856
VTIMEZONE:America/Chicago
DTSTART:20260611T210000Z
DTEND:20260611T230000Z
UID:1428222
SUMMARY:Women's Business Group Happy Hour
LOCATION:Timothy's, 12710 Olive Blvd., Creve Coeur, MO, 63141
DESCRIPTION:Women's Business Group Happy Hour\n\n06/11/26 04:00 PM CST\n - 06/11/26 06:00 PM CST\Description:\nHappy Hour & Social Gathering\nNot only a Happy Hour to connect & network, \nThis will be our collection event where members bring\nDonated supplies\nFor Our Backpack Service Project to Benefit Children in Foster Care\n\Location:\nTimothy's\n12710 Olive Blvd.\nCreve Coeur, MO 63141
X-ALT-DESC;FMTTYPE=text/html:Women's Business Group Happy Hour<br /><br />06/11/26 04:00 PM CST - 06/11/26 06:00 PM CST<br />Description:<br /><div style="text-align: center;"><span style="font-size:18px">Happy Hour &amp; Social Gathering</span><br />
Not only a Happy Hour to connect &amp; network,&nbsp;<br />
This will be our collection event where members bring<br />
Donated supplies<br />
For Our Backpack Service Project to Benefit Children in Foster Care</div>
<br />Location:<br />Timothy's<br />12710 Olive Blvd.<br />Creve Coeur, MO 63141
PRIORITY:3
TRANSP:TRANSPARENT
BEGIN:VALARM
TRIGGER:-PT5M
ACTION:DISPLAY
DESCRIPTION:Reminder
END:VALARM
END:VEVENT
END:VCALENDAR
