BEGIN:VCALENDAR
VERSION:2.0
CALSCALE:GREGORIAN
METHOD:PUBLISH
PRODID://CCOR//1419573
BEGIN:VEVENT
DTSTAMP:20260424T100244
VTIMEZONE:America/Chicago
DTSTART:20260320T163000Z
DTEND:20260320T180000Z
UID:1419573
SUMMARY:Women's Business Group
LOCATION:Timothy's The Restaurant, 12710 Olive Blvd., Creve Coeur, MO, 63141
DESCRIPTION:Women's Business Group\n\n03/20/26 11:30 AM CST\n - 03/20/26 01:00 PM CST\Description:\nWomen's Business Group\nMarch 20th, 2026\n11:30 a.m. - 1:00 p.m.\n**New Location**\nTimothy's The Restaurant\n12710 Olive Blvd., Creve Coeur, MO  63141\nAI & ChatGPT: Think Bigger, Work Smarter with AI\nYour New Business Assistant (and Second Brain) for Women Who Mean Business\n Discover how women in business are using AI and ChatGPT as a practical, non-intimidating assistant to save time, sharpen ideas, and amplify their voice—without needing any technical skills.\nSpeaker: Karen Fox, Business Acceleration Coach\n\nSponsor Welcome\n\nThis is a group designed to help business women connect, grow, and network in a supportive environment.\nEveryone pays for their own lunch. Sponsorships are available.\n    For questions email:\nDerlene Hirtz at derlene@youempoweredservices.com\nBethany Schell at bethany.schell@edwardjones.com\Location:\nTimothy's The Restaurant\n12710 Olive Blvd.\nCreve Coeur, MO 63141
X-ALT-DESC;FMTTYPE=text/html:Women's Business Group<br /><br />03/20/26 11:30 AM CST - 03/20/26 01:00 PM CST<br />Description:<br /><div style="text-align: center;"><span style="font-size:16px"><strong>Women's Business Group</strong><br />
<strong>March 20th, 2026<br />
11:30 a.m. - 1:00 p.m.</strong></span><br />
<span style="font-size:18px"><strong><span style="color:#FF0000">**New Location**</span></strong><br />
<strong><span style="color:#FF0000">Timothy's The Restaurant</span></strong></span><br />
<span style="font-size:16px">12710 Olive Blvd., Creve Coeur, MO&nbsp; 63141</span><br />
<span style="font-size:16px"><strong>AI &amp; ChatGPT: Think Bigger, Work Smarter with AI</strong><br />
<strong>Your New Business Assistant (and Second Brain) for Women Who Mean Business</strong></span><br />
&nbsp;<em>Discover how women in business are using AI and ChatGPT as a practical, non-intimidating assistant to save time, sharpen ideas, and amplify their voice&mdash;without needing any technical skills.</em><br />
<span style="font-size:16px"><strong>Speaker:</strong> Karen Fox, Business Acceleration Coach</span><br />
<br />
<span style="font-size:16px"><span style="color:#FF0000">Sponsor Welcome</span></span><br />
<br />
This is a group designed to help business women connect, grow, and network in a supportive environment.<br />
Everyone pays for their own lunch. Sponsorships are available.</div>
&nbsp;&nbsp;&nbsp;&nbsp;For questions email:<br />
Derlene Hirtz at&nbsp;<a href="mailto:derlene@youempoweredservices.com?subject=Business%20Women%27s%20Group">derlene@youempoweredservices.com</a><br />
Bethany Schell at&nbsp;<a href="mailto:bethany.schell@edwardjones.com?subject=Business%20Women%27s%20Group">bethany.schell@edwardjones.com</a><br />Location:<br />Timothy's The Restaurant<br />12710 Olive Blvd.<br />Creve Coeur, MO 63141
PRIORITY:3
TRANSP:TRANSPARENT
BEGIN:VALARM
TRIGGER:-PT5M
ACTION:DISPLAY
DESCRIPTION:Reminder
END:VALARM
END:VEVENT
END:VCALENDAR
