BEGIN:VCALENDAR
VERSION:2.0
CALSCALE:GREGORIAN
METHOD:PUBLISH
PRODID://CCOR//1417939
BEGIN:VEVENT
DTSTAMP:20260424T083303
VTIMEZONE:America/Chicago
DTSTART:20260506T163000Z
DTEND:20260506T180000Z
UID:1417939
SUMMARY:Men's Business Group
LOCATION:The Post Sports Bar & Grill, 763 Old Ballas Road, Creve Coeur, MO, 63141
DESCRIPTION:Men's Business Group\n\n05/06/26 11:30 AM CST\n - 05/06/26 01:00 PM CST\Description:\nMen's Business Group \n1st Wednesday of the Month\n May 6th @ Th Post Sports Bar & Grill in Creve Coeur\nJoin us for our Chamber Men's Business Group Lunch! \nConnect - Grow - Succeed\n\nGroup Leads: \nLou Darden ldarden@kreismannbayer.com\nDee Scaife info@thepartyinc.com \Location:\nThe Post Sports Bar & Grill\n763 Old Ballas Road\nCreve Coeur, MO 63141
X-ALT-DESC;FMTTYPE=text/html:Men's Business Group<br /><br />05/06/26 11:30 AM CST - 05/06/26 01:00 PM CST<br />Description:<br /><div style="text-align: center;"><strong>Men's Business Group&nbsp;</strong><br />
1st Wednesday of the Month<br />
&nbsp;May 6th&nbsp;@ Th Post Sports Bar &amp; Grill in Creve Coeur<br />
Join us for our Chamber Men's Business Group Lunch!&nbsp;<br />
Connect - Grow - Succeed</div>
<br />
Group Leads:&nbsp;<br />
Lou Darden ldarden@kreismannbayer.com<br />
Dee Scaife&nbsp;info@thepartyinc.com&nbsp;<br />Location:<br />The Post Sports Bar & Grill<br />763 Old Ballas Road<br />Creve Coeur, MO 63141
PRIORITY:3
TRANSP:TRANSPARENT
BEGIN:VALARM
TRIGGER:-PT5M
ACTION:DISPLAY
DESCRIPTION:Reminder
END:VALARM
END:VEVENT
END:VCALENDAR
