BEGIN:VCALENDAR
VERSION:2.0
CALSCALE:GREGORIAN
METHOD:PUBLISH
PRODID://CCOR//1414569
BEGIN:VEVENT
DTSTAMP:20260424T100609
VTIMEZONE:America/Chicago
DTSTART:20260304T160000Z
DTEND:20260304T200000Z
UID:1414569
SUMMARY:Ribbon Cutting at American Family Insurance
LOCATION:American Family Insurance, 8624 Olive Blvd., University City, MO, 63132
DESCRIPTION:Ribbon Cutting at American Family Insurance\n\n03/04/26 10:00 AM CST\n - 03/04/26 02:00 PM CST\Description:\nRibbon Cutting and 2nd Location Grand Opening\nfor American Family Insurance\nH. Pedro Messan\nWednesday, March 4th, 10:00 a.m. - 2:00 p.m.\nEnjoy food & drink and enter to win a Yeti Cooler\nFLYER\n\Location:\nAmerican Family Insurance\n8624 Olive Blvd.\nUniversity City, MO 63132
X-ALT-DESC;FMTTYPE=text/html:Ribbon Cutting at American Family Insurance<br /><br />03/04/26 10:00 AM CST - 03/04/26 02:00 PM CST<br />Description:<br /><div style="text-align: center;"><span style="font-size:16px">Ribbon Cutting and 2nd Location Grand Opening<br />
for American Family Insurance</span><br />
H. Pedro Messan<br />
<span style="font-size:16px">Wednesday, March 4th, 10:00 a.m. - 2:00 p.m.<br />
Enjoy food &amp; drink and enter to win a Yeti Cooler<br />
<a href="https://mms.ccochamber.com/ccochamber/docs/American_Family_Ribbon_Cutting_3.4.26.pdf"><span style="color:#0000CD">FLYER</span></a></span></div>
<br />Location:<br />American Family Insurance<br />8624 Olive Blvd.<br />University City, MO 63132
PRIORITY:3
TRANSP:TRANSPARENT
BEGIN:VALARM
TRIGGER:-PT5M
ACTION:DISPLAY
DESCRIPTION:Reminder
END:VALARM
END:VEVENT
END:VCALENDAR
