BEGIN:VCALENDAR
VERSION:2.0
CALSCALE:GREGORIAN
METHOD:PUBLISH
PRODID://CCOR//1413141
BEGIN:VEVENT
DTSTAMP:20260424T083718
VTIMEZONE:America/Chicago
DTSTART:20260521T161500Z
DTEND:20260521T180000Z
UID:1413141
SUMMARY:May Membership Luncheon
LOCATION:Drury Inn Hotel Creve Coeur, 11980 Olive Blvd., Creve Coeur, MO, 63141
DESCRIPTION:May Membership Luncheon\n\n05/21/26 11:15 AM CST\n - 05/21/26 01:00 PM CST\Description:\nMay Membership Luncheon\nat Drury Inn Hotel Creve Coeur\nSponsored by Bayer\n\nCreve Coeur & Olivette Business Awards\n\nPlease join us for our Membership Luncheon where \nthe City of Creve Coeur and the City of Olivette will present their Business Awards.\n\nNo Refunds for Cancellations after 12:00 p.m. on Monday week of Luncheon\n\Location:\nDrury Inn Hotel Creve Coeur\n11980 Olive Blvd.\nCreve Coeur, MO 63141
X-ALT-DESC;FMTTYPE=text/html:May Membership Luncheon<br /><br />05/21/26 11:15 AM CST - 05/21/26 01:00 PM CST<br />Description:<br /><div style="text-align: center;"><strong><span style="font-size:20px">May&nbsp;Membership Luncheon</span></strong><br />
<span style="font-size:14px">at Drury Inn Hotel&nbsp;Creve Coeur</span><br />
<strong><span style="font-size:16px">Sponsored by Bayer</span></strong><br />
<br />
<span style="font-size:16px"><strong>Creve Coeur&nbsp;&amp; Olivette Business Awards</strong></span><br />
<br />
Please join us for our Membership Luncheon where&nbsp;<br />
the City of Creve&nbsp;Coeur and the City of Olivette will present their Business Awards.<br />
<br />
No Refunds for Cancellations after&nbsp;12:00 p.m.&nbsp;on Monday week of Luncheon</div>
<br />Location:<br />Drury Inn Hotel Creve Coeur<br />11980 Olive Blvd.<br />Creve Coeur, MO 63141
PRIORITY:3
TRANSP:TRANSPARENT
BEGIN:VALARM
TRIGGER:-PT5M
ACTION:DISPLAY
DESCRIPTION:Reminder
END:VALARM
END:VEVENT
END:VCALENDAR
