BEGIN:VCALENDAR
VERSION:2.0
CALSCALE:GREGORIAN
METHOD:PUBLISH
PRODID://CCOR//1409064
BEGIN:VEVENT
DTSTAMP:20260424T114857
VTIMEZONE:America/Chicago
DTSTART:20260220T173000Z
DTEND:20260220T190000Z
UID:1409064
SUMMARY:Women's Business Group
LOCATION:Il Bel Lago, 11631 Olive Blvd., Creve Coeur, MO, 63141
DESCRIPTION:Women's Business Group\n\n02/20/26 11:30 AM CST\n - 02/20/26 01:00 PM CST\Description:\nWomen's Business Group\nFebruary 20th, 2026\n11:30 a.m. - 1:00 p.m.\nSponsored by: Dr. Nicholas Insolia with Chiro One\nLocation: IL Bel Lago\nSpeaker:  Debbie Loftus, La Quinta Inn\nRelationships That Refer: How Trust, Connection, and Consistency Turn Conversations into Opportunities\n\n\nThis is a group designed to help businesswomen connect, grow, and network in a supportive environment.\nEveryone pays for their own lunch. Sponsorships are available.\n    For questions email:\nDerlene Hirtz at derlene@youempoweredservices.com\nBethany Schell at bethany.schell@edwardjones.com\Location:\nIl Bel Lago\n11631 Olive Blvd.\nCreve Coeur, MO 63141
X-ALT-DESC;FMTTYPE=text/html:Women's Business Group<br /><br />02/20/26 11:30 AM CST - 02/20/26 01:00 PM CST<br />Description:<br /><div style="text-align: center;"><span style="font-size:16px"><strong>Women's Business Group</strong><br />
<strong>February&nbsp;20th, 2026<br />
11:30 a.m. - 1:00 p.m.<br />
Sponsored by:</strong></span><strong> </strong><!--StartFragment--><span style="font-size:16px"><strong>Dr. Nicholas Insolia with</strong>&nbsp;<strong>Chiro One</strong><br />
Location:&nbsp;</span><strong><span style="font-size:16px">IL&nbsp;Bel Lago</span><br />
<span style="font-size:14px">Speaker:&nbsp; Debbie Loftus, La Quinta Inn</span><br />
<span style="font-size:14px">Relationships That Refer: </span></strong><span style="font-size:14px">How Trust, Connection, and Consistency Turn Conversations into Opportunities</span><br />
<br />
<br />
This is a group designed to help businesswomen connect, grow, and network in a supportive environment.<br />
Everyone pays for their own lunch. Sponsorships are available.</div>
&nbsp;&nbsp;&nbsp;&nbsp;For questions email:<br />
Derlene Hirtz at&nbsp;<a href="mailto:derlene@youempoweredservices.com?subject=Business%20Women%27s%20Group">derlene@youempoweredservices.com</a><br />
Bethany Schell at&nbsp;<a href="mailto:bethany.schell@edwardjones.com?subject=Business%20Women%27s%20Group">bethany.schell@edwardjones.com</a><br />Location:<br />Il Bel Lago<br />11631 Olive Blvd.<br />Creve Coeur, MO 63141
PRIORITY:3
TRANSP:TRANSPARENT
BEGIN:VALARM
TRIGGER:-PT5M
ACTION:DISPLAY
DESCRIPTION:Reminder
END:VALARM
END:VEVENT
END:VCALENDAR
