BEGIN:VCALENDAR
VERSION:2.0
CALSCALE:GREGORIAN
METHOD:PUBLISH
PRODID://CCOR//1407916
BEGIN:VEVENT
DTSTAMP:20260424T131851
VTIMEZONE:America/Chicago
DTSTART:20260129T220000Z
DTEND:20260129T230000Z
UID:1407916
SUMMARY:Ribbon Cutting for The Only Facial of Creve Coeur
LOCATION:The Only Facial of Creve Coeur, 12380 Olive Blvd., Creve Coeur, MO, 63141
DESCRIPTION:Ribbon Cutting for The Only Facial of Creve Coeur\n\n01/29/26 04:00 PM CST\n - 01/29/26 05:00 PM CST\Description:\nEVENT POSTPONED DUE TO WEATHER\nNew Date: February 19, 2026\nJoin us to Welcome\nThe Only Facial of Creve Coeur\nRibbon Cutting Thursday, Jan. 29 @ 4:00 p.m.\n12380 Olive Blvd. \nCreve Coeur, MO  63141\nFLYER\n \n\Location:\nThe Only Facial of Creve Coeur\n12380 Olive Blvd.\nCreve Coeur, MO 63141
X-ALT-DESC;FMTTYPE=text/html:Ribbon Cutting for The Only Facial of Creve Coeur<br /><br />01/29/26 04:00 PM CST - 01/29/26 05:00 PM CST<br />Description:<br /><div style="text-align: center;"><span style="font-size:16px"><span style="color:#FF0000"><strong>EVENT POSTPONED DUE TO WEATHER<br />
New Date: February 19, 2026</strong></span><br />
Join us to Welcome<br />
<strong>The Only Facial of Creve Coeur<br />
Ribbon Cutting <s>Thursday, Jan. 29 </s>@ 4:00 p.m.</strong><br />
12380 Olive Blvd.&nbsp;<br />
Creve Coeur, MO&nbsp; 63141<br />
<a href="https://mms.ccochamber.com/ccochamber/docs/The_Only_Facial_of_Creve_Coeur_Ribbon_Cutting_pdf.pdf"><span style="color:#0000CD"><strong>FLYER</strong></span></a></span><br />
&nbsp;</div>
<br />Location:<br />The Only Facial of Creve Coeur<br />12380 Olive Blvd.<br />Creve Coeur, MO 63141
PRIORITY:3
TRANSP:TRANSPARENT
BEGIN:VALARM
TRIGGER:-PT5M
ACTION:DISPLAY
DESCRIPTION:Reminder
END:VALARM
END:VEVENT
END:VCALENDAR
