BEGIN:VCALENDAR
VERSION:2.0
CALSCALE:GREGORIAN
METHOD:PUBLISH
PRODID://CCOR//1407525
BEGIN:VEVENT
DTSTAMP:20260424T100701
VTIMEZONE:America/Chicago
DTSTART:20260305T143000Z
DTEND:20260305T160000Z
UID:1407525
SUMMARY:It's Just Networking 2
LOCATION:La Quinta Inn & Suites, 11805 Lackland Road, St. Louis, MO, 63146
DESCRIPTION:It's Just Networking 2\n\n03/05/26 08:30 AM CST\n - 03/05/26 10:00 AM CST\Description:\nYou are invited to our It’s Just Networking 2 Meeting on Thursday, March 5th\nOur networking groups are designed to bring business people together from\ndifferent industries to make connections, build your network, gain referrals. \n Meeting @ La Quinta Inn & Suites\n(Please register for updates and/or cancellations. We will follow Parkway School District weather policy)\n\Location:\nLa Quinta Inn & Suites\n11805 Lackland Road\nSt. Louis, MO 63146
X-ALT-DESC;FMTTYPE=text/html:It's Just Networking 2<br /><br />03/05/26 08:30 AM CST - 03/05/26 10:00 AM CST<br />Description:<br /><div style="text-align: center;">You are invited to our It&rsquo;s Just Networking 2 Meeting on Thursday, March 5th<br />
Our networking groups are designed to bring business people together from<br />
different industries to make connections, build your network, gain referrals.&nbsp;<br />
&nbsp;Meeting @ La Quinta Inn &amp; Suites<br />
<span style="font-size:14px"><span style="color:#FF0000">(Please register for updates and/or cancellations. We will follow Parkway School District weather policy)</span></span></div>
<br />Location:<br />La Quinta Inn & Suites<br />11805 Lackland Road<br />St. Louis, MO 63146
PRIORITY:3
TRANSP:TRANSPARENT
BEGIN:VALARM
TRIGGER:-PT5M
ACTION:DISPLAY
DESCRIPTION:Reminder
END:VALARM
END:VEVENT
END:VCALENDAR
