BEGIN:VCALENDAR
VERSION:2.0
CALSCALE:GREGORIAN
METHOD:PUBLISH
PRODID://CCOR//1407523
BEGIN:VEVENT
DTSTAMP:20260424T102445
VTIMEZONE:America/Chicago
DTSTART:20260303T173000Z
DTEND:20260303T190000Z
UID:1407523
SUMMARY:It's Just Networking 3
LOCATION:The Bracket Room @ the Holiday Inn St. Louis - Creve Coeur, 1030 Woodcrest Terrace Dr., St. Louis, MO, 63141
DESCRIPTION:It's Just Networking 3\n\n03/03/26 11:30 AM CST\n - 03/03/26 01:00 PM CST\Description:\nYou are invited to our It’s Just Networking 3 Meeting this month, Tuesday, March 3rd  at 11:30 AM!\nOur networking groups are designed to bring business people together from different industries to make connections, build your network, gain referrals. \nThe Bracket Room in the Holiday Inn - Creve Coeur\n(Individuals will order and pay for their own lunch at event. No minimum of purchase).\n(Please register for updates and/or cancellations. We will follow Parkway School District weather policy)\n\Location:\nThe Bracket Room @ the Holiday Inn St. Louis - Creve Coeur\n1030 Woodcrest Terrace Dr.\nSt. Louis, MO 63141
X-ALT-DESC;FMTTYPE=text/html:It's Just Networking 3<br /><br />03/03/26 11:30 AM CST - 03/03/26 01:00 PM CST<br />Description:<br /><div style="text-align: center;"><span style="font-size:14px">You are invited to our It&rsquo;s Just Networking 3 Meeting&nbsp;this month, Tuesday, March 3rd&nbsp;&nbsp;at 11:30 AM!<br />
Our networking groups are designed to bring business people together from different industries to make connections, build your network, gain referrals.&nbsp;</span><br />
The Bracket Room in the Holiday Inn - Creve Coeur<br />
(Individuals will order and pay for their own lunch at event. No minimum of purchase).<br />
<span style="font-size:14px"><span style="color:#FF0000">(Please register for updates and/or cancellations. We will follow Parkway School District weather policy)</span></span></div>
<br />Location:<br />The Bracket Room @ the Holiday Inn St. Louis - Creve Coeur<br />1030 Woodcrest Terrace Dr.<br />St. Louis, MO 63141
PRIORITY:3
TRANSP:TRANSPARENT
BEGIN:VALARM
TRIGGER:-PT5M
ACTION:DISPLAY
DESCRIPTION:Reminder
END:VALARM
END:VEVENT
END:VCALENDAR
