BEGIN:VCALENDAR
VERSION:2.0
CALSCALE:GREGORIAN
METHOD:PUBLISH
PRODID://CCOR//1407522
BEGIN:VEVENT
DTSTAMP:20260424T114857
VTIMEZONE:America/Chicago
DTSTART:20260217T143000Z
DTEND:20260217T160000Z
UID:1407522
SUMMARY:It's Just Networking 1
LOCATION:Whispering Hills Apts. & Townhomes, 12545 Markajre Drive, St. Louis, MO, 63146
DESCRIPTION:It's Just Networking 1\n\n02/17/26 08:30 AM CST\n - 02/17/26 10:00 AM CST\Description:\nYou are invited to our It’s Just Networking 1 Meeting on Tuesday, February 17th, at 8:30 AM! Our networking groups are designed to bring business people together from different industries to make connections, build your network, gain referrals. \nWe will be meeting at Whispering Hills Apartments. \n(Please register for updates and/or cancellations. We will follow Parkway School District weather policy)\n\Location:\nWhispering Hills Apts. & Townhomes\n12545 Markajre Drive\nSt. Louis, MO 63146
X-ALT-DESC;FMTTYPE=text/html:It's Just Networking 1<br /><br />02/17/26 08:30 AM CST - 02/17/26 10:00 AM CST<br />Description:<br /><div style="text-align: center;">You are invited to our It&rsquo;s Just Networking 1 Meeting on Tuesday, February 17th, at 8:30 AM! Our networking groups are designed to bring business people together from different industries to make connections, build your network, gain referrals.&nbsp;<br />
We will be meeting at Whispering Hills Apartments.&nbsp;<br />
<span style="font-size:14px"><span style="color:#FF0000">(Please register for updates and/or cancellations. We will follow Parkway School District weather policy)</span></span></div>
<br />Location:<br />Whispering Hills Apts. & Townhomes<br />12545 Markajre Drive<br />St. Louis, MO 63146
PRIORITY:3
TRANSP:TRANSPARENT
BEGIN:VALARM
TRIGGER:-PT5M
ACTION:DISPLAY
DESCRIPTION:Reminder
END:VALARM
END:VEVENT
END:VCALENDAR
