BEGIN:VCALENDAR
VERSION:2.0
CALSCALE:GREGORIAN
METHOD:PUBLISH
PRODID://CCOR//1405249
BEGIN:VEVENT
DTSTAMP:20260424T100609
VTIMEZONE:America/Chicago
DTSTART:20260306T140000Z
DTEND:20260306T150000Z
UID:1405249
SUMMARY:March 2026 Coffee Connection
LOCATION:Counselors Associates, 11500 Olive Blvd., Ste. 176, Creve Coeur, MO, 63141
DESCRIPTION:March 2026 Coffee Connection\n\n03/06/26 08:00 AM CST\n - 03/06/26 09:00 AM CST\Description:\nJoin us for Coffee Connection at\nCounselors Associates\n11500 Olive Blvd., Ste 176\nCreve Coeur, MO  63141\nFriday, March 6th, 8 am to 9 am\n\nThis is a great event to meet, mingle, and make some new connections while enjoying a cup of coffee and light breakfast items. Bring lots of business cards and be prepared to share about your business. \n\Location:\nCounselors Associates\n11500 Olive Blvd., Ste. 176\nCreve Coeur, MO 63141
X-ALT-DESC;FMTTYPE=text/html:March 2026 Coffee Connection<br /><br />03/06/26 08:00 AM CST - 03/06/26 09:00 AM CST<br />Description:<br /><div style="text-align: center;"><span style="font-size:14px"><strong>Join us&nbsp;for Coffee Connection at</strong><br />
<strong>Counselors Associates</strong><br />
11500&nbsp;Olive Blvd., Ste 176<br />
Creve Coeur, MO&nbsp; 63141<br />
<strong>Friday, March 6th, 8 am to 9 am</strong></span><br />
<br />
This is a great event to meet, mingle, and make some new connections while enjoying a cup of coffee and light breakfast items. Bring lots of business cards and be prepared to share about your business.<strong>&nbsp;</strong></div>
<br />Location:<br />Counselors Associates<br />11500 Olive Blvd., Ste. 176<br />Creve Coeur, MO 63141
PRIORITY:3
TRANSP:TRANSPARENT
BEGIN:VALARM
TRIGGER:-PT5M
ACTION:DISPLAY
DESCRIPTION:Reminder
END:VALARM
END:VEVENT
END:VCALENDAR
