BEGIN:VCALENDAR
VERSION:2.0
CALSCALE:GREGORIAN
METHOD:PUBLISH
PRODID://CCOR//1405247
BEGIN:VEVENT
DTSTAMP:20260424T114850
VTIMEZONE:America/Chicago
DTSTART:20260213T140000Z
DTEND:20260213T150000Z
UID:1405247
SUMMARY:February 2026 Coffee Connection
LOCATION:Pierce Creek, 10405 Old Olive Street Road, Creve Coeur, MO, 63141
DESCRIPTION:February 2026 Coffee Connection\n\n02/13/26 08:00 AM CST\n - 02/13/26 09:00 AM CST\Description:\nJoin us for Coffee Connection at\nPierce Creek Restaurant\n10405 Old Olive Street Road\nCreve Coeur, MO  63141\nFriday, February 13th, 8 am to 9 am\n\nThis is a great event to meet, mingle, and make some new connections while enjoying a cup of coffee and light breakfast items. Bring lots of business cards and be prepared to share about your business. \n\Location:\nPierce Creek\n10405 Old Olive Street Road\nCreve Coeur, MO 63141
X-ALT-DESC;FMTTYPE=text/html:February 2026 Coffee Connection<br /><br />02/13/26 08:00 AM CST - 02/13/26 09:00 AM CST<br />Description:<br /><div style="text-align: center;"><span style="font-size:14px"><strong>Join us&nbsp;for Coffee Connection at</strong><br />
<strong>Pierce Creek Restaurant</strong><br />
10405 Old Olive Street Road<br />
Creve Coeur, MO&nbsp; 63141<br />
<strong>Friday, February 13th, 8 am to 9 am</strong></span><br />
<br />
This is a great event to meet, mingle, and make some new connections while enjoying a cup of coffee and light breakfast items. Bring lots of business cards and be prepared to share about your business.<strong>&nbsp;</strong></div>
<br />Location:<br />Pierce Creek<br />10405 Old Olive Street Road<br />Creve Coeur, MO 63141
PRIORITY:3
TRANSP:TRANSPARENT
BEGIN:VALARM
TRIGGER:-PT5M
ACTION:DISPLAY
DESCRIPTION:Reminder
END:VALARM
END:VEVENT
END:VCALENDAR
