BEGIN:VCALENDAR
VERSION:2.0
CALSCALE:GREGORIAN
METHOD:PUBLISH
PRODID://CCOR//1401357
BEGIN:VEVENT
DTSTAMP:20260424T114901
VTIMEZONE:America/Chicago
DTSTART:20260220T143000Z
DTEND:20260220T160000Z
UID:1401357
SUMMARY:February VetNet Connect
LOCATION:The American Legion Post 397, 934 E Rue De La Banque, Creve Coeur, MO, 63141
DESCRIPTION:February VetNet Connect\n\n02/20/26 08:30 AM CST\n - 02/20/26 10:00 AM CST\Description:\nFriday, February 20, 2026\n8:30 AM - 10:00 AM CST (Come early to network)\nThe American Legion Post 397\n934 E Rue De La Banque\nCreve Coeur, MO  63141\n\nWe invite all who want to support Veterans to VetNet Connect. This is a networking group of all different groups and individuals to help the largest number of Veterans possible! We feel that by uniting all of us, we will be better able to reach out to our Veterans and help them more effectively. The mission of VetNet Connect is to support and help our local Veterans in whatever ways we can. If you want to be added to the VetNet Connect email list or have any questions, please email info@thekaufmanfund.org or call 314-455-9415.\n\nIf you would like to be added to The Kaufman Fund mailing list for our standard newsletter/other communications, please click here to register: https://lb.benchmarkemail.com//listbuilder/signupnew?UOpPXfYpHY41Zz4nC8MiP%252F5pwVnAjsSIgQDSqqnBaTTtO5iNRn8gS049TyW7spdJ \Location:\nThe American Legion Post 397\n934 E Rue De La Banque\nCreve Coeur, MO 63141
X-ALT-DESC;FMTTYPE=text/html:February VetNet Connect<br /><br />02/20/26 08:30 AM CST - 02/20/26 10:00 AM CST<br />Description:<br />Friday, February 20, 2026<br />
8:30 AM - 10:00 AM CST (Come early to network)<br />
The American Legion Post 397<br />
934 E Rue De La Banque<br />
Creve Coeur, MO&nbsp; 63141<br />
<br />
We invite all who want to support Veterans&nbsp;to VetNet&nbsp;Connect. This is a networking group of all different groups and individuals&nbsp;to help the largest number of Veterans possible!&nbsp;We feel that by uniting all of us, we will be better able to reach out to our Veterans and help them more effectively.&nbsp;The mission of VetNet Connect is to support and help our local Veterans in whatever ways we can. If you want to be added to the VetNet Connect email list or have any questions, please email <a href="mailto:info@thekaufmanfund.org?subject=Please%20Add%20me%20to%20the%20list">info@thekaufmanfund.org</a>&nbsp;or call 314-455-9415.<br />
<br />
If you would like to be added to The Kaufman Fund mailing list for our standard newsletter/other communications, please click here to register:&nbsp;<a href="https://lb.benchmarkemail.com/listbuilder/signupnew?UOpPXfYpHY41Zz4nC8MiP%252F5pwVnAjsSIgQDSqqnBaTTtO5iNRn8gS049TyW7spdJ" target="_blank">https://lb.benchmarkemail.com//listbuilder/signupnew?UOpPXfYpHY41Zz4nC8MiP%252F5pwVnAjsSIgQDSqqnBaTTtO5iNRn8gS049TyW7spdJ</a>&nbsp;<br />Location:<br />The American Legion Post 397<br />934 E Rue De La Banque<br />Creve Coeur, MO 63141
PRIORITY:3
TRANSP:TRANSPARENT
BEGIN:VALARM
TRIGGER:-PT5M
ACTION:DISPLAY
DESCRIPTION:Reminder
END:VALARM
END:VEVENT
END:VCALENDAR
