BEGIN:VCALENDAR
VERSION:2.0
CALSCALE:GREGORIAN
METHOD:PUBLISH
PRODID://CCOR//1400459
BEGIN:VEVENT
DTSTAMP:20260424T131224
VTIMEZONE:America/Chicago
DTSTART:20260101T171500Z
DTEND:20260131T190000Z
UID:1400459
SUMMARY:2026 Luncheon Package
LOCATION:Creve Coeur-Olivette Chamber Of Commerce, 10950 Olive Blvd., Suite 101, Creve Coeur, MO, 63141
DESCRIPTION:2026 Luncheon Package\n\n01/01/26 11:15 AM CST\n - 01/31/26 01:00 PM CST\Description:\nPurchase our Membership Luncheon Package for the 2026 calendar year and save $45.00. This will save you money and time, and one last thing for you to remember.\Location:\nCreve Coeur-Olivette Chamber Of Commerce\n10950 Olive Blvd., Suite 101\nCreve Coeur, MO 63141
X-ALT-DESC;FMTTYPE=text/html:2026 Luncheon Package<br /><br />01/01/26 11:15 AM CST - 01/31/26 01:00 PM CST<br />Description:<br />Purchase our Membership Luncheon Package for the 2026 calendar year and save $45.00. This will save you money and time, and one last thing for you to remember.<br />Location:<br />Creve Coeur-Olivette Chamber Of Commerce<br />10950 Olive Blvd., Suite 101<br />Creve Coeur, MO 63141
PRIORITY:3
TRANSP:TRANSPARENT
BEGIN:VALARM
TRIGGER:-PT5M
ACTION:DISPLAY
DESCRIPTION:Reminder
END:VALARM
END:VEVENT
END:VCALENDAR
