BEGIN:VCALENDAR
VERSION:2.0
CALSCALE:GREGORIAN
METHOD:PUBLISH
PRODID://CCOR//1400355
BEGIN:VEVENT
DTSTAMP:20260424T131657
VTIMEZONE:America/Chicago
DTSTART:20260115T171500Z
DTEND:20260115T190000Z
UID:1400355
SUMMARY:January 2026 Membership Luncheon
LOCATION:Orlando's Event Center, 2050 Dorsett Village, Maryland Heights, MO, 63043
DESCRIPTION:January 2026 Membership Luncheon\n\n01/15/26 11:15 AM CST\n - 01/15/26 01:00 PM CST\Description:\nJanuary 2026 Membership Luncheon\nLast Day to Register is Jan. 12\nat Orlando's Event Center\nTopic:  Economic Outlook for 2026\nSpeaker:  Angelo Kourkafas, Edward Jones\nWe are offering a Package for all 11 luncheons for 2026 - a $45 savings.\nPlease note our luncheons have gone up to $30.\nJoin us for our Membership Luncheon \n\nNo Refunds for Cancellations after 12:00 p.m. on Monday week of Luncheon\n\Location:\nOrlando's Event Center\n2050 Dorsett Village\nMaryland Heights, MO 63043
X-ALT-DESC;FMTTYPE=text/html:January 2026 Membership Luncheon<br /><br />01/15/26 11:15 AM CST - 01/15/26 01:00 PM CST<br />Description:<br /><div style="text-align: center;"><strong><span style="font-size:20px">January 2026&nbsp;Membership Luncheon</span><br />
<span style="color:#FF0000"><span style="font-size:16px">Last Day to Register is Jan. 12</span></span></strong><br />
<span style="font-size:16px">at Orlando's Event Center<br />
Topic:&nbsp; Economic Outlook for 2026<br />
<strong>Speaker:&nbsp;&nbsp;Angelo Kourkafas, Edward Jones<br />
We are offering a&nbsp;Package for all 11 luncheons for 2026 - a $45&nbsp;savings.<br />
Please note our luncheons have gone up to $30.</strong></span><br />
<span style="font-size:16px">Join us for our Membership Luncheon&nbsp;</span><br />
<br />
No Refunds for Cancellations after&nbsp;12:00 p.m.&nbsp;on Monday week of Luncheon</div>
<br />Location:<br />Orlando's Event Center<br />2050 Dorsett Village<br />Maryland Heights, MO 63043
PRIORITY:3
TRANSP:TRANSPARENT
BEGIN:VALARM
TRIGGER:-PT5M
ACTION:DISPLAY
DESCRIPTION:Reminder
END:VALARM
END:VEVENT
END:VCALENDAR
