BEGIN:VCALENDAR
VERSION:2.0
CALSCALE:GREGORIAN
METHOD:PUBLISH
PRODID://CCOR//1393496
BEGIN:VEVENT
DTSTAMP:20260424T142646
VTIMEZONE:America/Chicago
DTSTART:20251202T173000Z
DTEND:20251202T190000Z
UID:1393496
SUMMARY:CANCELED: It's Just Networking 3
LOCATION:The Bracket Room @ the Holiday Inn St. Louis - Creve Coeur, 1030 Woodcrest Terrace Dr., St. Louis, MO, 63141
DESCRIPTION:CANCELED: It's Just Networking 3\n\n12/02/25 11:30 AM CST\n - 12/02/25 01:00 PM CST\Description:\nThis meeting is CANCELED due to the weather. We follow the Parkway School weather decisions.\nYou are invited to our It’s Just Networking 3 Meeting this month, Tuesday, December 2nd at 11:30 AM!\nOur networking groups are designed to bring business people together from different industries to make connections, build your network, gain referrals. \n\nIn Person @ The Bracket Room in the Holiday Inn - Creve Coeur (Individuals will order and pay for their own lunch at event. No minimum of purchase).\n\Location:\nThe Bracket Room @ the Holiday Inn St. Louis - Creve Coeur\n1030 Woodcrest Terrace Dr.\nSt. Louis, MO 63141
X-ALT-DESC;FMTTYPE=text/html:CANCELED: It's Just Networking 3<br /><br />12/02/25 11:30 AM CST - 12/02/25 01:00 PM CST<br />Description:<br /><div style="text-align: center;"><span style="color:#FF0000">This meeting is CANCELED due to the weather. We follow the Parkway School weather decisions.</span><br />
You are invited to our It&rsquo;s Just Networking 3 Meeting&nbsp;this month, Tuesday, December 2nd at 11:30 AM!<br />
Our networking groups are designed to bring business people together from different industries to make connections, build your network, gain referrals.&nbsp;<br />
<br />
In Person @ The Bracket Room in the Holiday Inn - Creve Coeur (Individuals will order and pay for their own lunch at event. No minimum of purchase).</div>
<br />Location:<br />The Bracket Room @ the Holiday Inn St. Louis - Creve Coeur<br />1030 Woodcrest Terrace Dr.<br />St. Louis, MO 63141
PRIORITY:3
TRANSP:TRANSPARENT
BEGIN:VALARM
TRIGGER:-PT5M
ACTION:DISPLAY
DESCRIPTION:Reminder
END:VALARM
END:VEVENT
END:VCALENDAR
