BEGIN:VCALENDAR
VERSION:2.0
CALSCALE:GREGORIAN
METHOD:PUBLISH
PRODID://CCOR//1390472
BEGIN:VEVENT
DTSTAMP:20260424T155638
VTIMEZONE:America/Chicago
DTSTART:20251125T173000Z
DTEND:20251125T183000Z
UID:1390472
SUMMARY:Ribbon Cutting at Arch Aesthetics
LOCATION:Arch Aesthetics, 1034 S. Brentwood Blvd., Ste. 754, St. Louis, MO, 63117
DESCRIPTION:Ribbon Cutting at Arch Aesthetics\n\n11/25/25 11:30 AM CST\n - 11/25/25 12:30 PM CST\Description:\nGrand Opening & Ribbon Cutting\nArch Aesthetics\nNovember 25, 2025\n11:30 a.m. - 12:30 p.m.\n\nCome celebrate the ribbon-cutting of Arch Aesthetics and learn about all their great services!\n\Location:\nArch Aesthetics\n1034 S. Brentwood Blvd., Ste. 754\nSt. Louis, MO 63117
X-ALT-DESC;FMTTYPE=text/html:Ribbon Cutting at Arch Aesthetics<br /><br />11/25/25 11:30 AM CST - 11/25/25 12:30 PM CST<br />Description:<br /><div style="text-align: center;"><span style="font-size:18px"><strong>Grand Opening &amp; Ribbon Cutting<br />
Arch Aesthetics</strong></span><br />
<span style="font-size:14px">November 25, 2025<br />
11:30 a.m. - 12:30 p.m.</span><br />
<br />
Come celebrate the ribbon-cutting of Arch Aesthetics and learn about all their great services!</div>
<br />Location:<br />Arch Aesthetics<br />1034 S. Brentwood Blvd., Ste. 754<br />St. Louis, MO 63117
PRIORITY:3
TRANSP:TRANSPARENT
BEGIN:VALARM
TRIGGER:-PT5M
ACTION:DISPLAY
DESCRIPTION:Reminder
END:VALARM
END:VEVENT
END:VCALENDAR
