BEGIN:VCALENDAR
VERSION:2.0
CALSCALE:GREGORIAN
METHOD:PUBLISH
PRODID://CCOR//1389632
BEGIN:VEVENT
DTSTAMP:20260424T155612
VTIMEZONE:America/Chicago
DTSTART:20251113T220000Z
DTEND:20251114T000000Z
UID:1389632
SUMMARY:Ribbon Cutting at GB's Balloon Delights
LOCATION:GB's Balloon Delights, 3 Midland Ave., Maryland Heights, MO, 63043
DESCRIPTION:Ribbon Cutting at GB's Balloon Delights\n\n11/13/25 04:00 PM CST\n - 11/13/25 06:00 PM CST\Description:\nJoin us for GB's Balloon Delights Ribbon Cutting\nat their New Brick & Mortar  \n3 Midland Ave.\nMaryland Heights, MO  63043\n\Location:\nGB's Balloon Delights\n3 Midland Ave.\nMaryland Heights, MO 63043
X-ALT-DESC;FMTTYPE=text/html:Ribbon Cutting at GB's Balloon Delights<br /><br />11/13/25 04:00 PM CST - 11/13/25 06:00 PM CST<br />Description:<br /><div style="text-align: center;"><strong><span style="font-size:16px">Join us for GB's Balloon Delights Ribbon Cutting<br />
at their New Brick &amp; Mortar &nbsp;<br />
3 Midland Ave.<br />
Maryland Heights, MO&nbsp; 63043</span></strong></div>
<br />Location:<br />GB's Balloon Delights<br />3 Midland Ave.<br />Maryland Heights, MO 63043
PRIORITY:3
TRANSP:TRANSPARENT
BEGIN:VALARM
TRIGGER:-PT5M
ACTION:DISPLAY
DESCRIPTION:Reminder
END:VALARM
END:VEVENT
END:VCALENDAR
