BEGIN:VCALENDAR
VERSION:2.0
CALSCALE:GREGORIAN
METHOD:PUBLISH
PRODID://CCOR//1388917
BEGIN:VEVENT
DTSTAMP:20260424T155739
VTIMEZONE:America/Chicago
DTSTART:20251119T003000Z
DTEND:20251119T020000Z
UID:1388917
SUMMARY:Cookies and Conversations 
LOCATION:YarnCom, 12772 Olive Blvd, Creve Coeur, MO, 63141
DESCRIPTION:Cookies and Conversations \n\n11/18/25 06:30 PM CST\n - 11/18/25 08:00 PM CST\Description:\nLeftovers Are For Quitters!\n\nKick off the holiday season with conversation, laughter, community, frosting and fall flavors. Decorate Thanksgiving themed cookies, enjoy a fun adult night out and take home a box of your delicious creations to share(or keep them all to yourself-no judgment here!).\Details:\n$38 per person. Everything included, just bring yourself. \n\nRegistration required at https://www.busybsbakeryllc.com/classes. \n\nSponsored by Busy B's Bakery, Rachel Salem Real Estate Agent and Advisor, and YarnCom\Location:\nYarnCom\n12772 Olive Blvd\nCreve Coeur, MO 63141
X-ALT-DESC;FMTTYPE=text/html:Cookies and Conversations <br /><br />11/18/25 06:30 PM CST - 11/18/25 08:00 PM CST<br />Description:<br />Leftovers Are For Quitters!<br />
<br />
Kick off the holiday season with conversation, laughter, community, frosting and fall flavors. Decorate Thanksgiving themed cookies, enjoy a fun adult night out and take home a box of your delicious creations to share(or keep them all to yourself-no judgment here!).<br />Details:<br />$38 per person. Everything included, just bring yourself.&nbsp;<br />
<br />
Registration required at&nbsp;https://www.busybsbakeryllc.com/classes.&nbsp;<br />
<br />
Sponsored by Busy B's Bakery, Rachel Salem Real Estate Agent and Advisor, and YarnCom<br />Location:<br />YarnCom<br />12772 Olive Blvd<br />Creve Coeur, MO 63141
PRIORITY:3
TRANSP:TRANSPARENT
BEGIN:VALARM
TRIGGER:-PT5M
ACTION:DISPLAY
DESCRIPTION:Reminder
END:VALARM
END:VEVENT
END:VCALENDAR
