BEGIN:VCALENDAR
VERSION:2.0
CALSCALE:GREGORIAN
METHOD:PUBLISH
PRODID://CCOR//1384835
BEGIN:VEVENT
DTSTAMP:20260424T142609
VTIMEZONE:America/Chicago
DTSTART:20251216T143000Z
DTEND:20251216T160000Z
UID:1384835
SUMMARY:It's Just Networking 1
LOCATION:Whispering Hills Apts. & Townhomes, 12545 Markaire Drive, St. Louis, MO, 63146
DESCRIPTION:It's Just Networking 1\n\n12/16/25 08:30 AM CST\n - 12/16/25 10:00 AM CST\Description:\nYou are invited to our It’s Just Networking 1 Meeting on Tuesday, December 16th, at 8:30 AM! Our networking groups are designed to bring business people together from different industries to make connections, build your network, gain referrals. \nWe will be meeting at Whispering Hills Apartments. \n\Location:\nWhispering Hills Apts. & Townhomes\n12545 Markaire Drive\nSt. Louis, MO 63146
X-ALT-DESC;FMTTYPE=text/html:It's Just Networking 1<br /><br />12/16/25 08:30 AM CST - 12/16/25 10:00 AM CST<br />Description:<br /><div style="text-align: center;">You are invited to our It&rsquo;s Just Networking 1 Meeting on Tuesday, December 16th, at 8:30 AM! Our networking groups are designed to bring business people together from different industries to make connections, build your network, gain referrals.&nbsp;<br />
We will be meeting at Whispering Hills Apartments.&nbsp;</div>
<br />Location:<br />Whispering Hills Apts. & Townhomes<br />12545 Markaire Drive<br />St. Louis, MO 63146
PRIORITY:3
TRANSP:TRANSPARENT
BEGIN:VALARM
TRIGGER:-PT5M
ACTION:DISPLAY
DESCRIPTION:Reminder
END:VALARM
END:VEVENT
END:VCALENDAR
