BEGIN:VCALENDAR
VERSION:2.0
CALSCALE:GREGORIAN
METHOD:PUBLISH
PRODID://CCOR//1383104
BEGIN:VEVENT
DTSTAMP:20260424T142609
VTIMEZONE:America/Chicago
DTSTART:20251219T173000Z
DTEND:20251219T190000Z
UID:1383104
SUMMARY:Women's Business Group
LOCATION:Il Bel Lago, 11631 Olive Blvd., Creve Coeur, MO, 63141
DESCRIPTION:Women's Business Group\n\n12/19/25 11:30 AM CST\n - 12/19/25 01:00 PM CST\Description:\nWomen's Business Group\nDecember 19th, 2025\n11:30 a.m. - 1:00 p.m.\nLocation: IL Bel Lago\n“Netcollaborating – Appreciating the Past and Building For the Future”\nSponsor Welcome\n\nThis is a group designed to help business women connect, grow, and network in a supportive environment.\nEveryone pays for their own lunch. Sponsorships are available.\n    For questions email:\nDerlene Hirtz at derlene@youempoweredservices.com\nBethany Schell at bethany.schell@edwardjones.com\Location:\nIl Bel Lago\n11631 Olive Blvd.\nCreve Coeur, MO 63141
X-ALT-DESC;FMTTYPE=text/html:Women's Business Group<br /><br />12/19/25 11:30 AM CST - 12/19/25 01:00 PM CST<br />Description:<br /><div style="text-align: center;"><span style="font-size:16px"><strong>Women's Business Group</strong><br />
<strong>December 19th, 2025<br />
11:30 a.m. - 1:00 p.m.</strong><br />
Location:&nbsp;</span><strong><span style="font-size:16px">IL&nbsp;Bel Lago</span><br />
<span style="font-size:16px"><em>&ldquo;Netcollaborating &ndash; Appreciating the Past and Building For the Future&rdquo;</em></span></strong><br />
<span style="font-size:16px"><span style="color:#FF0000">Sponsor Welcome</span></span><br />
<br />
This is a group designed to help business women connect, grow, and network in a supportive environment.<br />
Everyone pays for their own lunch. Sponsorships are available.</div>
&nbsp;&nbsp;&nbsp;&nbsp;For questions email:<br />
Derlene Hirtz at&nbsp;<a href="mailto:derlene@youempoweredservices.com?subject=Business%20Women%27s%20Group">derlene@youempoweredservices.com</a><br />
Bethany Schell at&nbsp;<a href="mailto:bethany.schell@edwardjones.com?subject=Business%20Women%27s%20Group">bethany.schell@edwardjones.com</a><br />Location:<br />Il Bel Lago<br />11631 Olive Blvd.<br />Creve Coeur, MO 63141
PRIORITY:3
TRANSP:TRANSPARENT
BEGIN:VALARM
TRIGGER:-PT5M
ACTION:DISPLAY
DESCRIPTION:Reminder
END:VALARM
END:VEVENT
END:VCALENDAR
